BEGIN:VCALENDAR
VERSION:2.0
PRODID:-//Suncruise Andalucía y Mar de Alborán - ECPv6.3.5//NONSGML v1.0//EN
CALSCALE:GREGORIAN
METHOD:PUBLISH
X-ORIGINAL-URL:https://suncruiseandalucia.eu
X-WR-CALDESC:Eventos para Suncruise Andalucía y Mar de Alborán
REFRESH-INTERVAL;VALUE=DURATION:PT1H
X-Robots-Tag:noindex
X-PUBLISHED-TTL:PT1H
BEGIN:VTIMEZONE
TZID:Europe/Madrid
BEGIN:DAYLIGHT
TZOFFSETFROM:+0100
TZOFFSETTO:+0200
TZNAME:CEST
DTSTART:20250330T010000
END:DAYLIGHT
BEGIN:STANDARD
TZOFFSETFROM:+0200
TZOFFSETTO:+0100
TZNAME:CET
DTSTART:20251026T010000
END:STANDARD
END:VTIMEZONE
BEGIN:VEVENT
DTSTART;TZID=Europe/Madrid:20250120T120000
DTEND;TZID=Europe/Madrid:20250120T130000
DTSTAMP:20260421T142551
CREATED:20240118T115759Z
LAST-MODIFIED:20250119T194807Z
UID:5370-1737374400-1737378000@suncruiseandalucia.eu
SUMMARY:BOOT 2025 | Salón Náutico de Düsseldorf
DESCRIPTION:Boot Düsseldorf  es la feria de deportes náuticos líder a nivel mundial. Toda la cadena de valor de la industria y los servicios náuticos se dan cita en este evento anual que atrae cada año a profesionales y compradores de todo el mundo. \nSuncruise Andalucía junto a la Agencia Pública de Puertos de Andalucia y la AP de Málaga presentan: \nINTERNATIONAL SAILING SUMMIT\nII ENCUENTRO PROFESIONAL DE NÁUTICA Y PUERTOS DEPORTIVOS \nStand Consejería de Fomento\, Articulación del Territorio y Vivienda – Agencia Pública de Puertos de Andalucía\nHALLE 13\, C 50.\nLUNES 22 DE ENERO 2025. HORA: 12.00 \nIntervienen:\nD. Carlos Rubio Basabe. Presidente de la Autoridad Portuaria de Málaga.\nD.ª Esther Molina Crespo. Directora Gerente de Suncruise Andalucía.\nD. Rafael Montero Jurado. Director comercial Agencia Pública de Puertos de Andalucía.
URL:https://suncruiseandalucia.eu/evento/boot-2025-salon-nautico-de-dusseldorf/
LOCATION:Boot Düsseldorf\, Alemania
CATEGORIES:International Sailing Summit
ATTACH;FMTTYPE=image/jpeg:https://suncruiseandalucia.eu/wp-content/uploads/2024/01/Grafica-redes-ISS-Boot-Dusseldorf.jpg
END:VEVENT
END:VCALENDAR