BEGIN:VCALENDAR
VERSION:2.0
PRODID:-//Suncruise Andalucía y Mar de Alborán - ECPv6.3.5//NONSGML v1.0//EN
CALSCALE:GREGORIAN
METHOD:PUBLISH
X-ORIGINAL-URL:https://suncruiseandalucia.eu
X-WR-CALDESC:Eventos para Suncruise Andalucía y Mar de Alborán
REFRESH-INTERVAL;VALUE=DURATION:PT1H
X-Robots-Tag:noindex
X-PUBLISHED-TTL:PT1H
BEGIN:VTIMEZONE
TZID:Europe/Madrid
BEGIN:DAYLIGHT
TZOFFSETFROM:+0100
TZOFFSETTO:+0200
TZNAME:CEST
DTSTART:20250330T010000
END:DAYLIGHT
BEGIN:STANDARD
TZOFFSETFROM:+0200
TZOFFSETTO:+0100
TZNAME:CET
DTSTART:20251026T010000
END:STANDARD
END:VTIMEZONE
BEGIN:VEVENT
DTSTART;TZID=Europe/Madrid:20250123T130000
DTEND;TZID=Europe/Madrid:20250123T133000
DTSTAMP:20260420T041421
CREATED:20250119T193924Z
LAST-MODIFIED:20250123T115157Z
UID:9165-1737637200-1737639000@suncruiseandalucia.eu
SUMMARY:Balearia: Primer corredor 100% verde entre España y Marruecos para la línea Tarifa - Tánger Ville.
DESCRIPTION:La Autoridad Portuaria Bahía de Algeciras tiene el placer de invitarle a la presentación de Balearia: Primer corredor 100% verde entre España y Marruecos para la línea Tarifa – Tánger Ville. \nFITUR\n23 de enero. 13:00 h.\nPabellón 10 – Stand 10 D10.
URL:https://suncruiseandalucia.eu/evento/fitur-la-autoridad-portuaria-bahia-de-algeciras-tiene-el-placer-de-invitarle-a-la-presentacion-de-balearia-primer-corredor-100-verde-entre-espana-y-marruecos-para-la-linea-tarifa-tanger-ville/
LOCATION:IFEMA
CATEGORIES:FITUR 2025
END:VEVENT
BEGIN:VEVENT
DTSTART;TZID=Europe/Madrid:20250123T140000
DTEND;TZID=Europe/Madrid:20250123T143000
DTSTAMP:20260420T041421
CREATED:20250119T193622Z
LAST-MODIFIED:20250119T193622Z
UID:9163-1737640800-1737642600@suncruiseandalucia.eu
SUMMARY:FITUR: Presentación del Puerto de Málaga.
DESCRIPTION:FITUR: Presentación del Puerto de Málaga. \nBautismo “Mein Schiff Relax“ en el Puerto de Málaga. \nFITUR\n23 de enero. 14:00 h.\nStand de Málaga. Pabellón 7 – Stand A05.\n \n 
URL:https://suncruiseandalucia.eu/evento/fitur-presentacion-del-puerto-de-malaga/
LOCATION:IFEMA
CATEGORIES:FITUR 2025
END:VEVENT
END:VCALENDAR